BEGIN:VCALENDAR
PRODID:-//cotech.no//iCalendar MIMEDIR//EN
VERSION:2.0
METHOD:PUBLISH
BEGIN:VEVENT

DTSTART:20160509T060000Z
DTEND:20160513T140000Z
LOCATION:Opaas Kompetansesenter AS
CATEGORIES:
TRANSP:OPAQUE
SEQUENCE:0
UID:RFCALITEM639123920965756020
DTSTAMP:20160509T060000Z
DESCRIPTION;ENCODING=QUOTED-PRINTABLE:Yrkessjåfør direktiv kurs
SUMMARY:YDIR Etterutdanning godstransport

PRIORITY:5
CLASS:PUBLIC
BEGIN:VALARM
TRIGGER:PT15M
ACTION:DISPLAY
DESCRIPTION:Reminder
PRIORITY:5
END:VALARM
END:VEVENT
END:VCALENDAR
