BEGIN:VCALENDAR
PRODID:-//cotech.no//iCalendar MIMEDIR//EN
VERSION:2.0
METHOD:PUBLISH
BEGIN:VEVENT

DTSTART:20170630T160000Z
DTEND:20170701T160000Z
LOCATION:Trysil sentrum
CATEGORIES:
TRANSP:OPAQUE
SEQUENCE:0
UID:RFCALITEM639125224892889285
DTSTAMP:20170630T160000Z
DESCRIPTION;ENCODING=QUOTED-PRINTABLE:
SUMMARY:Trysilrittet 2017

PRIORITY:5
CLASS:PUBLIC
BEGIN:VALARM
TRIGGER:PT15M
ACTION:DISPLAY
DESCRIPTION:Reminder
PRIORITY:5
END:VALARM
END:VEVENT
END:VCALENDAR
