BEGIN:VCALENDAR
PRODID:-//cotech.no//iCalendar MIMEDIR//EN
VERSION:2.0
METHOD:PUBLISH
BEGIN:VEVENT

DTSTART:20140128T230000Z
DTEND:20170905T060000Z
LOCATION:Diakonhjemmet Sykehus
CATEGORIES:
TRANSP:OPAQUE
SEQUENCE:0
UID:RFCALITEM639122996402773511
DTSTAMP:20140128T230000Z
DESCRIPTION;ENCODING=QUOTED-PRINTABLE:
SUMMARY:ELEKTROLYTTVEILEDEREN 2014-2015-2016-2017

PRIORITY:5
CLASS:PUBLIC
BEGIN:VALARM
TRIGGER:PT15M
ACTION:DISPLAY
DESCRIPTION:Reminder
PRIORITY:5
END:VALARM
END:VEVENT
END:VCALENDAR
